BEGIN:VCALENDAR
VERSION:2.0
PRODID:-//Rubicon Leisure - ECPv6.7.0//NONSGML v1.0//EN
CALSCALE:GREGORIAN
METHOD:PUBLISH
X-WR-CALNAME:Rubicon Leisure
X-ORIGINAL-URL:https://rubiconleisure.co.uk
X-WR-CALDESC:Events for Rubicon Leisure
REFRESH-INTERVAL;VALUE=DURATION:PT1H
X-Robots-Tag:noindex
X-PUBLISHED-TTL:PT1H
BEGIN:VTIMEZONE
TZID:Europe/London
BEGIN:DAYLIGHT
TZOFFSETFROM:+0000
TZOFFSETTO:+0100
TZNAME:BST
DTSTART:20250330T010000
END:DAYLIGHT
BEGIN:STANDARD
TZOFFSETFROM:+0100
TZOFFSETTO:+0000
TZNAME:GMT
DTSTART:20251026T010000
END:STANDARD
END:VTIMEZONE
BEGIN:VEVENT
DTSTART;TZID=Europe/London:20251213T183000
DTEND;TZID=Europe/London:20251213T223000
DTSTAMP:20260424T095358
CREATED:20250918T093546Z
LAST-MODIFIED:20250918T093546Z
UID:10000596-1765650600-1765665000@rubiconleisure.co.uk
SUMMARY:Murder Under The Big Top – A Christmas Murder Mystery at The Boathouse Café
DESCRIPTION:Step into the spirit of the season with a night of festive thrills\, 1920s glamour and circus intrigue under the Big Top at The Boathouse.
URL:https://rubiconleisure.co.uk/event/murder-under-the-big-top-a-christmas-murder-mystery-at-the-boathouse-cafe/
LOCATION:Arrow Valley Visitor Centre – The Boathouse
END:VEVENT
BEGIN:VEVENT
DTSTART;TZID=Europe/London:20251101T180000
DTEND;TZID=Europe/London:20251101T220000
DTSTAMP:20260424T095358
CREATED:20250918T093434Z
LAST-MODIFIED:20250918T093434Z
UID:10000595-1762020000-1762034400@rubiconleisure.co.uk
SUMMARY:The Boathouse Fancy Dress Halloween Party
DESCRIPTION:Join us for our spooktacular Fancy Dress Halloween Party where the evening will be filled with family fun with\, free face painting and glitter tattoos from Twist and Sparkle\, and fantastic entertainment provided throughout the night by MW Parties.
URL:https://rubiconleisure.co.uk/event/the-boathouse-fancy-dress-halloween-party/
LOCATION:Arrow Valley Visitor Centre – The Boathouse
ATTACH;FMTTYPE=image/png:https://rubiconleisure.co.uk/wp-content/uploads/2025/09/FANCY-DRESS-1.png
END:VEVENT
BEGIN:VEVENT
DTSTART;TZID=Europe/London:20250913T063000
DTEND;TZID=Europe/London:20250913T230000
DTSTAMP:20260424T095358
CREATED:20250509T154508Z
LAST-MODIFIED:20250630T101342Z
UID:10000480-1757745000-1757804400@rubiconleisure.co.uk
SUMMARY:A Fête Worse Than Death! – Murder Mystery
DESCRIPTION:Big Adventures Murder Mystery Company returns to The Boathouse Café this summer with A Fête Worse Than Death! – a delightfully devious\, 1950s-themed evening of mystery\, mayhem\, and mouth watering food.
URL:https://rubiconleisure.co.uk/event/2115/
LOCATION:Arrow Valley Visitor Centre – The Boathouse
ATTACH;FMTTYPE=image/png:https://rubiconleisure.co.uk/wp-content/uploads/2025/05/BEYONK-AFWTD-1.png
END:VEVENT
END:VCALENDAR